BEGIN:VCALENDAR
VERSION:2.0
PRODID:icalendar-ruby
CALSCALE:GREGORIAN
METHOD:PUBLISH
BEGIN:VEVENT
DTSTAMP:20260421T140249Z
UID:13-1071707@vbctifton.org
DTSTART:20261101T190000Z
DTEND:20261101T200000Z
CLASS:PUBLIC
CREATED:20260421T065553
DESCRIPTION:Sunday Morning Service
LAST-MODIFIED:20260421T065553
LOCATION:Victory Baptist Church 
SUMMARY:Sunday Morning Service 
URL;VALUE=URI:https://www.vbctifton.org/events/sunday-morning-service/2026-
 11-01
END:VEVENT
END:VCALENDAR
