BEGIN:VCALENDAR
VERSION:2.0
PRODID:icalendar-ruby
CALSCALE:GREGORIAN
METHOD:PUBLISH
BEGIN:VEVENT
DTSTAMP:20260421T124957Z
UID:13-1070979@vbctifton.org
DTSTART:20261025T180000Z
DTEND:20261025T190000Z
CLASS:PUBLIC
CREATED:20260421T042017
DESCRIPTION:Sunday Morning Service
LAST-MODIFIED:20260421T042017
LOCATION:Victory Baptist Church 
SUMMARY:Sunday Morning Service 
URL;VALUE=URI:https://www.vbctifton.org/events/sunday-morning-service/2026-
 10-25
END:VEVENT
END:VCALENDAR
