BEGIN:VCALENDAR
VERSION:2.0
PRODID:icalendar-ruby
CALSCALE:GREGORIAN
METHOD:PUBLISH
BEGIN:VEVENT
DTSTAMP:20260421T090755Z
UID:13-1070250@vbctifton.org
DTSTART:20261011T180000Z
DTEND:20261011T190000Z
CLASS:PUBLIC
CREATED:20260420T171353
DESCRIPTION:Sunday Morning Service
LAST-MODIFIED:20260420T171353
LOCATION:Victory Baptist Church 
SUMMARY:Sunday Morning Service 
URL;VALUE=URI:https://www.vbctifton.org/events/sunday-morning-service/2026-
 10-11
END:VEVENT
END:VCALENDAR
